BEGIN:VCALENDAR
METHOD:PUBLISH
VERSION:2.0
PRODID:-//WoltLab GmbH//WoltLab Suite Calendar 5.4//EN
CALSCALE:GREGORIAN
X-WR-CALNAME;VALUE=TEXT:Treffen
BEGIN:VEVENT
TRANSP:TRANSPARENT
UID:event-7@www.drummerforum.de
URL:https://www.drummerforum.de/calendar/event/6-rentnerstammtisch/
DTSTART;VALUE=DATE:20091024
DTSTAMP:20091024T000000Z
CREATED:20091024T000000Z
SUMMARY:Rentnerstammtisch
DESCRIPTION:Das ist wohl für Leute\, die zu viel Zeit haben.\n\nTreffen der
  alten Säcke mit dem noch älteren Obersack Steve G.
LOCATION:Colos Saal
END:VEVENT
BEGIN:VEVENT
TRANSP:TRANSPARENT
UID:event-71@www.drummerforum.de
URL:https://www.drummerforum.de/calendar/event/68-mittelsachsen-stammtisch/
DTSTART;VALUE=DATE:20100627
DTSTAMP:20100627T000000Z
CREATED:20100627T000000Z
SUMMARY:Mittelsachsen Stammtisch
LOCATION:Dresden
END:VEVENT
BEGIN:VEVENT
TRANSP:OPAQUE
UID:event-106@www.drummerforum.de
URL:https://www.drummerforum.de/calendar/event/103-vintage-drum-meeting/
DTSTART:20120324T090000Z
DTSTAMP:20120324T090000Z
CREATED:20120324T090000Z
SUMMARY:Vintage Drum Meeting
DESCRIPTION:Bürgerhaus Zeppelinheim\, Kapitän-Lehmannstr. 2\, Neu-Isenburg/
 Zeppelinheim\nInfos: http://www.vintagedrums.info
LOCATION:Neu-Isenburg / Zeppelinheim
DTEND:20120324T160000Z
END:VEVENT
END:VCALENDAR
