BEGIN:VCALENDAR
METHOD:PUBLISH
VERSION:2.0
PRODID:-//WoltLab GmbH//WoltLab Suite Calendar 5.4//EN
CALSCALE:GREGORIAN
X-WR-CALNAME;VALUE=TEXT:STURMFEST 2026 mit EMBER SEA / ZAPPENDUSTER / SOURC
 E OF RAGE - Kellerclub\, Clausthal-Zellerfeld
BEGIN:VEVENT
TRANSP:OPAQUE
UID:event-235@www.drummerforum.de
URL:https://www.drummerforum.de/calendar/event/231-sturmfest-2026-mit-ember
 -sea-zappenduster-source-of-rage-kellerclub-clausthal-ze/
DTSTART:20260314T190000Z
DTSTAMP:20260314T190000Z
CREATED:20260314T190000Z
SUMMARY:STURMFEST 2026 mit EMBER SEA / ZAPPENDUSTER / SOURCE OF RAGE - Kell
 erclub\, Clausthal-Zellerfeld
DESCRIPTION:METAL NIGHT Aufgepasst! Am 14.03 wird der Club wieder unsicher 
 gemacht.\nAuf der Bühne steht dann ZAPPENDUSTER\, EMBER SEA und SOURCE OF R
 AGE!\nKellerclub im Stuz e.V.\nSilberstraße 1\n38678 Clausthal-Zellerfeld
DTEND:20260314T220000Z
CATEGORIES:metal,ember sea,zappenduster,source of rage
END:VEVENT
END:VCALENDAR
